BEGIN:VCALENDAR
PRODID:-//github.com/rianjs/ical.net//NONSGML ical.net 4.0//EN
VERSION:2.0
BEGIN:VEVENT
DESCRIPTION:Eksamen matematikk 10. trinn
DTEND:20260526T140000
DTSTAMP:20260422T190116Z
DTSTART:20260526T090000
LOCATION:Ruseløkka skole
SEQUENCE:0
SUMMARY:Eksamen matematikk 10. trinn
UID:3cc1f1ee-df04-48e6-a69f-f358b2fa2989
END:VEVENT
END:VCALENDAR
