BEGIN:VCALENDAR
PRODID:-//github.com/rianjs/ical.net//NONSGML ical.net 4.0//EN
VERSION:2.0
BEGIN:VEVENT
DESCRIPTION:Eksamen norsk hovedmål 10. trinn
DTEND:20260521T140000
DTSTAMP:20260422T190008Z
DTSTART:20260521T090000
LOCATION:Ruseløkka skole
SEQUENCE:0
SUMMARY:Eksamen norsk hovedmål 10. trinn
UID:0e85895a-fcda-432c-8398-6e6d58378f20
END:VEVENT
END:VCALENDAR
