BEGIN:VCALENDAR
PRODID:-//github.com/rianjs/ical.net//NONSGML ical.net 4.0//EN
VERSION:2.0
BEGIN:VEVENT
DESCRIPTION:Eksamen Norsk sidemål 10. trinn
DTEND:20260522T140000
DTSTAMP:20260422T190127Z
DTSTART:20260522T090000
LOCATION:Ruseløkka skole
SEQUENCE:0
SUMMARY:Eksamen Norsk sidemål 10. trinn
UID:fc794f34-81a4-4ff6-9902-8b3412dca21f
END:VEVENT
END:VCALENDAR
