BEGIN:VCALENDAR
PRODID:-//github.com/rianjs/ical.net//NONSGML ical.net 4.0//EN
VERSION:2.0
BEGIN:VEVENT
DESCRIPTION:Eksamen Engelsk 10. trinn
DTEND:20260520T140000
DTSTAMP:20260422T190030Z
DTSTART:20260520T090000
LOCATION:Ruseløkka skole
SEQUENCE:0
SUMMARY:Eksamen Engelsk 10. trinn
UID:0ed475d5-5572-4f39-88e5-283f76733994
END:VEVENT
END:VCALENDAR
