BEGIN:VCALENDAR
PRODID:-//github.com/rianjs/ical.net//NONSGML ical.net 4.0//EN
VERSION:2.0
BEGIN:VEVENT
DESCRIPTION:Muntlig eksamen 10. trinn
DTEND:20260529T150000
DTSTAMP:20260422T190023Z
DTSTART:20260529T090000
LOCATION:Ruseløkka skole
SEQUENCE:0
SUMMARY:Muntlig eksamen 10. trinn
UID:69350344-a90f-4736-b558-c48161af4ff7
END:VEVENT
END:VCALENDAR
