BEGIN:VCALENDAR
PRODID:-//github.com/rianjs/ical.net//NONSGML ical.net 4.0//EN
VERSION:2.0
BEGIN:VEVENT
DESCRIPTION:Muntlig eksamen 10. trinn
DTEND:20260605T150000
DTSTAMP:20260422T185913Z
DTSTART:20260605T090000
LOCATION:Ruseløkka skole
SEQUENCE:0
SUMMARY:Muntlig eksamen 10. trinn
UID:a70fa790-e34f-4254-93e5-1b88ce4c5b0c
END:VEVENT
END:VCALENDAR
