BEGIN:VCALENDAR
PRODID:-//github.com/rianjs/ical.net//NONSGML ical.net 4.0//EN
VERSION:2.0
BEGIN:VEVENT
DESCRIPTION:Driftsstyremøte
DTEND:20240325T180000
DTSTAMP:20260422T172251Z
DTSTART:20240325T163000
LOCATION:Ruseløkka skole
SEQUENCE:0
SUMMARY:Driftsstyremøte
UID:cdf0c634-dd45-471a-a947-6d8fdd2a3816
END:VEVENT
END:VCALENDAR
