BEGIN:VCALENDAR
PRODID:-//github.com/rianjs/ical.net//NONSGML ical.net 4.0//EN
VERSION:2.0
BEGIN:VEVENT
DESCRIPTION:Grunnlovsdag
DTEND:20260517T235959
DTSTAMP:20260422T185855Z
DTSTART;VALUE=DATE:20260517
SEQUENCE:0
SUMMARY:Grunnlovsdag
UID:7d882221-307d-43fe-922a-cb1f9f37537f
END:VEVENT
END:VCALENDAR
