BEGIN:VCALENDAR
PRODID:-//github.com/rianjs/ical.net//NONSGML ical.net 4.0//EN
VERSION:2.0
BEGIN:VEVENT
DESCRIPTION:Høstferie
DTEND:20261002T000000
DTSTAMP:20260422T185721Z
DTSTART:20260928T000000
SEQUENCE:0
SUMMARY:Høstferie
UID:622d7c4e-be88-444f-94f1-00eabac0fc86
END:VEVENT
END:VCALENDAR
