BEGIN:VCALENDAR
PRODID:-//github.com/rianjs/ical.net//NONSGML ical.net 4.0//EN
VERSION:2.0
BEGIN:VEVENT
DESCRIPTION:Vinterferie
DTEND:20270226T000000
DTSTAMP:20260422T185747Z
DTSTART:20270222T000000
SEQUENCE:0
SUMMARY:Vinterferie
UID:61dba2b7-509e-40d1-b20a-35414d858bb3
END:VEVENT
END:VCALENDAR
