BEGIN:VCALENDAR
PRODID:-//github.com/rianjs/ical.net//NONSGML ical.net 4.0//EN
VERSION:2.0
BEGIN:VEVENT
DESCRIPTION:Første skoledag etter sommerferien
DTEND:20260817T000000
DTSTAMP:20260422T185849Z
DTSTART:20260817T000000
SEQUENCE:0
SUMMARY:Første skoledag etter sommerferien
UID:ea26b6a6-052f-46f3-b7a8-27412c2528c7
END:VEVENT
END:VCALENDAR
